BEGIN:VCALENDAR
VERSION:2.0
PRODID:-//Central Maryland Chapter of ISSA - ECPv6.15.20//NONSGML v1.0//EN
CALSCALE:GREGORIAN
METHOD:PUBLISH
X-WR-CALNAME:Central Maryland Chapter of ISSA
X-ORIGINAL-URL:https://issa-centralmd.org
X-WR-CALDESC:Events for Central Maryland Chapter of ISSA
REFRESH-INTERVAL;VALUE=DURATION:PT1H
X-Robots-Tag:noindex
X-PUBLISHED-TTL:PT1H
BEGIN:VTIMEZONE
TZID:America/New_York
BEGIN:DAYLIGHT
TZOFFSETFROM:-0500
TZOFFSETTO:-0400
TZNAME:EDT
DTSTART:20240310T070000
END:DAYLIGHT
BEGIN:STANDARD
TZOFFSETFROM:-0400
TZOFFSETTO:-0500
TZNAME:EST
DTSTART:20241103T060000
END:STANDARD
BEGIN:DAYLIGHT
TZOFFSETFROM:-0500
TZOFFSETTO:-0400
TZNAME:EDT
DTSTART:20250309T070000
END:DAYLIGHT
BEGIN:STANDARD
TZOFFSETFROM:-0400
TZOFFSETTO:-0500
TZNAME:EST
DTSTART:20251102T060000
END:STANDARD
BEGIN:DAYLIGHT
TZOFFSETFROM:-0500
TZOFFSETTO:-0400
TZNAME:EDT
DTSTART:20260308T070000
END:DAYLIGHT
BEGIN:STANDARD
TZOFFSETFROM:-0400
TZOFFSETTO:-0500
TZNAME:EST
DTSTART:20261101T060000
END:STANDARD
END:VTIMEZONE
BEGIN:VEVENT
DTSTART;VALUE=DATE:20250901
DTEND;VALUE=DATE:20250902
DTSTAMP:20260425T062626
CREATED:20241215T011405Z
LAST-MODIFIED:20241215T011405Z
UID:11427-1756684800-1756771199@issa-centralmd.org
SUMMARY:Labor Day
DESCRIPTION:
URL:https://issa-centralmd.org/calendar/labor-day-12/
LOCATION:MD
CATEGORIES:Holidays
END:VEVENT
BEGIN:VEVENT
DTSTART;VALUE=DATE:20250909
DTEND;VALUE=DATE:20250913
DTSTAMP:20260425T062626
CREATED:20250723T221721Z
LAST-MODIFIED:20250723T221721Z
UID:12157-1757376000-1757721599@issa-centralmd.org
SUMMARY:Billington CyberSecurity Summit
DESCRIPTION:
URL:https://issa-centralmd.org/calendar/billington-cybersecurity-summit-2/
LOCATION:WALTER E. WASHINGTON CONVENTION CENTER\, 801 Allen Y. Lew Place\, Washington DC\, 20001
CATEGORIES:Miscellaneous,Training
END:VEVENT
BEGIN:VEVENT
DTSTART;VALUE=DATE:20250923
DTEND;VALUE=DATE:20250924
DTSTAMP:20260425T062626
CREATED:20241215T011945Z
LAST-MODIFIED:20250131T185920Z
UID:11431-1758585600-1758671999@issa-centralmd.org
SUMMARY:Rosh Hashannah
DESCRIPTION:
URL:https://issa-centralmd.org/calendar/rosh-hashannah/
LOCATION:MD
CATEGORIES:Holidays
END:VEVENT
BEGIN:VEVENT
DTSTART;TZID=America/New_York:20250924T170000
DTEND;TZID=America/New_York:20250924T190000
DTSTAMP:20260425T062626
CREATED:20241214T224735Z
LAST-MODIFIED:20250924T221939Z
UID:11394-1758733200-1758740400@issa-centralmd.org
SUMMARY:Membership Meeting 9/24/2025
DESCRIPTION:Chapter Business Meeting Slides: 2025-09-24 Business Meeting Slides \nSpeaker Slides: From Firefighting To Strategic Focus: Overcoming Workforce Gaps To Drive IT Performance \nTopic: From Firefighting To Strategic Focus: Overcoming Workforce Gaps To Drive IT Performance \n\nAs cybersecurity and IT teams face rising threat complexity and a shrinking talent pipeline\, many leaders are stuck in reactive mode—undermining trust\, adoption\, and long-term strategy. Based on insights from a cross-sector study with 14 senior IT and IS leaders\, this session reveals three key shifts needed to strengthen internal alignment\, accelerate results\, and lead effectively through change. Attendees will gain actionable strategies to build influence\, adaptability\, and team resilience—even with limited resources. \nThe IT and cybersecurity landscape is under immense pressure—shaped by rapid innovation\, rising threat complexity\, and a workforce pipeline that’s struggling to keep up. Many teams find themselves in constant firefighting mode\, unable to fully leverage the systems\, talent\, or strategic priorities at their disposal. \nIn this session\, Christine Springer\, Founder and CEO of Rising Culture Group\, shares insights from a cross-sector study of 14 senior IT and IS leaders—including those leading security\, infrastructure\, and digital transformation. The findings expose critical yet often overlooked internal risks: eroding trust\, lagging tech adoption\, and leadership pipelines that aren’t built to meet today’s demands. \nAttendees will walk away with: \n\nA 3-part framework to shift out of reactive mode and build long-term strategic capacity\nReal-world examples of how technical leaders are developing power skills to drive alignment\, influence\, and resilience\nPractical steps to strengthen team adaptability and internal service—even with a leaner bench\n\nIf your team is stretched thin\, under pressure\, or navigating high-stakes change\, this session will offer actionable strategies to lead more effectively in uncertain times. \nSpeaker: Christine Springer\, Founder and CEO of Rising Culture Group \nChristine Springer is the Founder of Rising Culture Group and a trusted advisor to leaders seeking to drive results while creating a supportive environment for team growth. With a background in Psychology from the University of Texas and a master’s degree in physical therapy from Texas Woman’s University\, Christine has spent her entire career helping people and organizations. \nChristine and her team specialize in helping technical leaders migrate from expert contributors to trusted leaders who can inspire buy-in and drive strategic outcomes. \nChristine is certified in Everything DiSC and Five Behaviors of a Cohesive Team. She is also a certified coach.
URL:https://issa-centralmd.org/calendar/membership-meeting-9-24-2025/
LOCATION:Stumpy’s Hatchet House\, 6695 Dobbin Rd\, Columbia\, MD\, 21045\, United States
CATEGORIES:Meetings
ORGANIZER;CN="ISSA Central MD Chapter":MAILTO:V_P_Operations@issa-centralmd.org
END:VEVENT
END:VCALENDAR