BEGIN:VCALENDAR
VERSION:2.0
PRODID:-//Central Maryland Chapter of ISSA - ECPv6.15.20//NONSGML v1.0//EN
CALSCALE:GREGORIAN
METHOD:PUBLISH
X-WR-CALNAME:Central Maryland Chapter of ISSA
X-ORIGINAL-URL:https://issa-centralmd.org
X-WR-CALDESC:Events for Central Maryland Chapter of ISSA
REFRESH-INTERVAL;VALUE=DURATION:PT1H
X-Robots-Tag:noindex
X-PUBLISHED-TTL:PT1H
BEGIN:VTIMEZONE
TZID:America/New_York
BEGIN:DAYLIGHT
TZOFFSETFROM:-0500
TZOFFSETTO:-0400
TZNAME:EDT
DTSTART:20150308T070000
END:DAYLIGHT
BEGIN:STANDARD
TZOFFSETFROM:-0400
TZOFFSETTO:-0500
TZNAME:EST
DTSTART:20151101T060000
END:STANDARD
BEGIN:DAYLIGHT
TZOFFSETFROM:-0500
TZOFFSETTO:-0400
TZNAME:EDT
DTSTART:20160313T070000
END:DAYLIGHT
BEGIN:STANDARD
TZOFFSETFROM:-0400
TZOFFSETTO:-0500
TZNAME:EST
DTSTART:20161106T060000
END:STANDARD
BEGIN:DAYLIGHT
TZOFFSETFROM:-0500
TZOFFSETTO:-0400
TZNAME:EDT
DTSTART:20170312T070000
END:DAYLIGHT
BEGIN:STANDARD
TZOFFSETFROM:-0400
TZOFFSETTO:-0500
TZNAME:EST
DTSTART:20171105T060000
END:STANDARD
BEGIN:DAYLIGHT
TZOFFSETFROM:-0500
TZOFFSETTO:-0400
TZNAME:EDT
DTSTART:20180311T070000
END:DAYLIGHT
BEGIN:STANDARD
TZOFFSETFROM:-0400
TZOFFSETTO:-0500
TZNAME:EST
DTSTART:20181104T060000
END:STANDARD
BEGIN:DAYLIGHT
TZOFFSETFROM:-0500
TZOFFSETTO:-0400
TZNAME:EDT
DTSTART:20190310T070000
END:DAYLIGHT
BEGIN:STANDARD
TZOFFSETFROM:-0400
TZOFFSETTO:-0500
TZNAME:EST
DTSTART:20191103T060000
END:STANDARD
BEGIN:DAYLIGHT
TZOFFSETFROM:-0500
TZOFFSETTO:-0400
TZNAME:EDT
DTSTART:20200308T070000
END:DAYLIGHT
BEGIN:STANDARD
TZOFFSETFROM:-0400
TZOFFSETTO:-0500
TZNAME:EST
DTSTART:20201101T060000
END:STANDARD
BEGIN:DAYLIGHT
TZOFFSETFROM:-0500
TZOFFSETTO:-0400
TZNAME:EDT
DTSTART:20210314T070000
END:DAYLIGHT
BEGIN:STANDARD
TZOFFSETFROM:-0400
TZOFFSETTO:-0500
TZNAME:EST
DTSTART:20211107T060000
END:STANDARD
END:VTIMEZONE
BEGIN:VEVENT
DTSTART;VALUE=DATE:20200908
DTEND;VALUE=DATE:20200910
DTSTAMP:20260422T205850
CREATED:20200413T022408Z
LAST-MODIFIED:20200413T022408Z
UID:3207-1599523200-1599695999@issa-centralmd.org
SUMMARY:Billington CyberSecurity Summit
DESCRIPTION:Following a sold-out Summit in 2019\, the 11th Annual CyberSecurity Summit promises to continue the proud tradition of convening the top “who’s who” in cybersecurity leadership for an unparalleled two days of high-level networking and knowledge-sharing to advocate cyber mission in the U.S. and among allied countries.
URL:https://issa-centralmd.org/calendar/billington-cybersecurity-summit/
CATEGORIES:Miscellaneous
END:VEVENT
BEGIN:VEVENT
DTSTART;VALUE=DATE:20200905
DTEND;VALUE=DATE:20200907
DTSTAMP:20260422T205850
CREATED:20200210T032446Z
LAST-MODIFIED:20200316T125201Z
UID:3101-1599264000-1599436799@issa-centralmd.org
SUMMARY:BSidesCharm
DESCRIPTION:BSidesCharm is a regional Security B-Sides held in Baltimore\, MD. It operates under the umbrella principles of Security B-Sides as a larger community project within information security. The goal of BSides is to offer small\, intimate events where all participants can engage each other to help develop connections\, friendships\, and network with different industry professionals.\n\nWe recognize the value in engaging a smaller audience and being the big fish in a small pond. Every organization will have different goals and priorities which is why we offer different levels of participation for every individual\, group\, or organization. We specifically designed several different options for any sized organization to participate and support this event.
URL:https://issa-centralmd.org/calendar/bsidescharm/
CATEGORIES:Miscellaneous
END:VEVENT
BEGIN:VEVENT
DTSTART;TZID=America/New_York:20200818T183000
DTEND;TZID=America/New_York:20200818T200000
DTSTAMP:20260422T205850
CREATED:20200729T110546Z
LAST-MODIFIED:20200729T110651Z
UID:3353-1597775400-1597780800@issa-centralmd.org
SUMMARY:ISSA-DC August Chapter Meeting
DESCRIPTION:Incident Handling & Threat Hunting w/ Security Onion by Tyrone E. Wilson \nMr. Wilson will discuss how to use a free and open source tool like Security Onion (SO) to provide hands-on experience and increase our knowledge in incident response and threat hunting. This event is for those with minimal experience working with detection alerts\, pcap files\, and log management. We will learn how to setup Security Onion at home or on an enterprise network and use its features to complete various network defense challenges. Attendees will leave with a higher level of confidence in network defense as well as the ability to crush their next analyst interview. Participants will also receive a booklet of instructions and credentials to a live SO server which will allow them to continue to practice their new found skills from anywhere in the world.
URL:https://issa-centralmd.org/calendar/issa-dc-august-chapter-meeting/
LOCATION:Virtual via Go To Meeting\, MD
CATEGORIES:Miscellaneous
END:VEVENT
BEGIN:VEVENT
DTSTART;TZID=America/New_York:20200423T110000
DTEND;TZID=America/New_York:20200423T120000
DTSTAMP:20260422T205850
CREATED:20200412T182319Z
LAST-MODIFIED:20200412T182319Z
UID:3205-1587639600-1587643200@issa-centralmd.org
SUMMARY:Careers in Cybersecurity Panel Discussion
DESCRIPTION:Come join industry experts as they discuss the various job roles and career paths in the field of cybersecurity. We’ll be discussing how your curiosity and interest in cybersecurity can lead to a new career and what steps to take to make it happen!
URL:https://issa-centralmd.org/calendar/careers-in-cybersecurity-panel-discussion/
CATEGORIES:Miscellaneous
END:VEVENT
BEGIN:VEVENT
DTSTART;TZID=America/New_York:20200422T120000
DTEND;TZID=America/New_York:20200422T130000
DTSTAMP:20260422T205850
CREATED:20200412T182051Z
LAST-MODIFIED:20200412T182101Z
UID:3203-1587556800-1587560400@issa-centralmd.org
SUMMARY:Thriving With Resilience and Collective Wisdom
DESCRIPTION:Now\, more than ever\, it’s essential that we come together as organizations and communities to sustain and continue to thrive by crowdsourcing collective wisdom. This one hour lunch and learn will briefly cover the Arc of Learning through conversations about Resilience and Develop Guiding Principles – or Critical Behaviors essential to Resilience. The session is interactive\, so it’s expected that everyone participates with both audio AND video. If you join the session\, commit to stay for the entire session (i.e. don’t plan to drop in and drop out\, as that will not work and will impact everyone else’s experience).
URL:https://issa-centralmd.org/calendar/thriving-with-resilience-and-collective-wisdom-2/
LOCATION:UMBC Training Centers\, 6996 Columbia Gateway Dr.\, Suite 100\, Columbia\, MD\, 21046\, United States
CATEGORIES:Miscellaneous
END:VEVENT
BEGIN:VEVENT
DTSTART;TZID=America/New_York:20200325T090000
DTEND;TZID=America/New_York:20200325T140000
DTSTAMP:20260422T205850
CREATED:20200226T232414Z
LAST-MODIFIED:20200226T232414Z
UID:3171-1585126800-1585144800@issa-centralmd.org
SUMMARY:Fort Meade Technical Job Fair
DESCRIPTION:Fort Meade Technical Job Fair\n9AM-2PM — Mar 25\, 2020 \nClub Meade\n6600 Mapes Road\, Fort George G. Meade\, Maryland \nOpen to all job seekers!\nOpen to the general public!\nNo registration required! \nAll Veterans and non-veterans are invited to attend!\nAttention all Job Seekers! Got ID Card? \nIndividuals who want to attend the job fair; but do not possess a Department of Defense (DoD) ID card\, must go to the MD 175 and Reece Road gate and report to the Fort Meade Visitor Control Center. \n>> All individuals entering on Fort Meade must present a government-issued photo ID card or driver license. \nCompanies and organizations represent a wide range of jobs and opportunities. Both commercial industry and defense industry recruiters are present at these events. \nConsidering a career with the NSA? NSA Recruiters are at all events. \nLook for IntelligenceCareers.com and DoDHeadhunter at all events!
URL:https://issa-centralmd.org/calendar/fort-meade-technical-job-fair/
CATEGORIES:Miscellaneous
END:VEVENT
BEGIN:VEVENT
DTSTART;TZID=America/New_York:20200312T103000
DTEND;TZID=America/New_York:20200312T150000
DTSTAMP:20260422T205850
CREATED:20200228T002419Z
LAST-MODIFIED:20200228T002419Z
UID:3181-1584009000-1584025200@issa-centralmd.org
SUMMARY:IT + Cybersecurity Career Expo
DESCRIPTION:The Maryland Tech Council\, in collaboration with Montgomery College’s America’s Promise leadership\, will host a career expo to connect job seekers and students with industry for cybersecurity and IT related career positions and create awareness of job opportunities available. \nIn the Expo Arena: \n\n20+ employers\nPrivate meeting space for interviews (full time positions and internships)\nResume review\, headshot lounge and networking\nLinkedIn demo and more
URL:https://issa-centralmd.org/calendar/it-cybersecurity-career-expo/
CATEGORIES:Miscellaneous
END:VEVENT
BEGIN:VEVENT
DTSTART;TZID=America/New_York:20200228T100000
DTEND;TZID=America/New_York:20200228T130000
DTSTAMP:20260422T205850
CREATED:20200220T220435Z
LAST-MODIFIED:20200220T220435Z
UID:3144-1582884000-1582894800@issa-centralmd.org
SUMMARY:Howard Community College Internship Fair
DESCRIPTION:The Spring 2020 Internship Fair will be held Friday\, February 28\, 2020 between 10:00 a.m. and 1:00 p.m. in Burrill Galleria. \nStudents: By participating\, you will have the opportunity to connect with companies about internship opportunities within their organizations. Please dress professionally and bring copies of your resume to the event. \nEmployers: Registration for the Spring 2020 Internship Fair will be available in mid-December. The fee to participate is $75 for two recruiters and includes lunch vouchers. \nPlease click here to see the employer invitation letter and click here to register for the event. \nIf you have questions\, please contact Amy Crawford\, Internship and Co-op Manager\, at 443-518-4009\, acrawford@howardcc.edu. Thank you.
URL:https://issa-centralmd.org/calendar/howard-community-college-internship-fair/
CATEGORIES:Miscellaneous
END:VEVENT
BEGIN:VEVENT
DTSTART;TZID=America/New_York:20191205T080000
DTEND;TZID=America/New_York:20191206T170000
DTSTAMP:20260422T205850
CREATED:20191105T232856Z
LAST-MODIFIED:20191105T233210Z
UID:2920-1575532800-1575651600@issa-centralmd.org
SUMMARY:Cyber.Maryland 2019
DESCRIPTION:The CyberMaryland Conference is an annual two-day event presented by the Federal Business Council (FBC) in conjunction with academia\, government and private industry organizations. This year’s theme\, Cyber Threats\, Nevermore: Unifying the Cyber Community in Maryland and Beyond pays homage to a historic Maryland icon – famous poet and cryptographer Edgar Allan Poe. Additionally\, the conference provides an opportunity for Maryland to demonstrate its natural leadership in Cybersecurity. \nClick here for more information and registration: Cyber.Maryland 2019 \n 
URL:https://issa-centralmd.org/calendar/cyber-maryland-2019/
CATEGORIES:Miscellaneous
END:VEVENT
BEGIN:VEVENT
DTSTART;VALUE=DATE:20190829
DTEND;VALUE=DATE:20190830
DTSTAMP:20260422T205850
CREATED:20190619T021438Z
LAST-MODIFIED:20190619T021438Z
UID:2696-1567036800-1567123199@issa-centralmd.org
SUMMARY:SANS SEC511: Continuous Monitoring and Security Operations
DESCRIPTION:SEC511: Continuous Monitoring and Security Operations No network is impenetrable\, a\nreality that business executives and security professionals alike have to accept. Prevention is\ncrucial\, and we can’t lose sight of it as the primary goal. However\, a new proactive approach\nto security is needed to enhance the capabilities of organizations to detect threats that will\ninevitably slip through their defenses. SEC511 will teach you how to strengthen your skills to\nundertake that proactive approach. \nFor additional ionformation\, see the attached flier (Click Here). \n 
URL:https://issa-centralmd.org/calendar/sans-sec511-continuous-monitoring-and-security-operations-2/
CATEGORIES:Miscellaneous
END:VEVENT
BEGIN:VEVENT
DTSTART;VALUE=DATE:20181016
DTEND;VALUE=DATE:20181018
DTSTAMP:20260422T205850
CREATED:20160928T001124Z
LAST-MODIFIED:20160930T181547Z
UID:989-1539648000-1539820799@issa-centralmd.org
SUMMARY:ISSA International Conference
DESCRIPTION:
URL:https://issa-centralmd.org/calendar/issa-international-conference-2/
CATEGORIES:Miscellaneous
END:VEVENT
BEGIN:VEVENT
DTSTART;VALUE=DATE:20171010
DTEND;VALUE=DATE:20171012
DTSTAMP:20260422T205850
CREATED:20160928T001023Z
LAST-MODIFIED:20170226T235520Z
UID:987-1507593600-1507766399@issa-centralmd.org
SUMMARY:ISSA International Conference 2017
DESCRIPTION:San Diego\, California
URL:https://issa-centralmd.org/calendar/issa-international-conference/
CATEGORIES:Miscellaneous
END:VEVENT
BEGIN:VEVENT
DTSTART;VALUE=DATE:20161212
DTEND;VALUE=DATE:20161215
DTSTAMP:20260422T205850
CREATED:20161106T215008Z
LAST-MODIFIED:20161106T215017Z
UID:1148-1481500800-1481759999@issa-centralmd.org
SUMMARY:2016 IEEE 3rd World Forum on Internet of Things (WF-IoT)
DESCRIPTION:Dove-tailing with this year’s World Forum Internet of Things conference theme\, IoT: Smart\nInnovation for Vibrant Ecosystems\, this entertaining\, enlightening\, and enjoyable set of\ndiscussions focuses on how IoT technologies enable creativity\, collaboration\, and culture\nshifts.Click here for more info: World Forum on IoT \n 
URL:https://issa-centralmd.org/calendar/2016-ieee-3rd-world-forum-on-internet-of-things-wf-iot/
CATEGORIES:Miscellaneous
END:VEVENT
BEGIN:VEVENT
DTSTART;TZID=America/New_York:20161020T173000
DTEND;TZID=America/New_York:20161020T200000
DTSTAMP:20260422T205850
CREATED:20161004T014512Z
LAST-MODIFIED:20161004T014512Z
UID:1072-1476984600-1476993600@issa-centralmd.org
SUMMARY:ISSA NOVA October Meeting
DESCRIPTION:Building High-Performing Cyber Teams\nA Lean Belbin Team Approach\nPresented by Ms. DeeDee Smartt Lynch\, Founder Smartt Strategies\nThursday\, October 20\, 2016\n5:30 PM – Networking and Dinner\n6:30 PM – MACH37 Presentations\n6:50 – 8:00 PM – ISSA NOVA Announcements & Program\nDoes your cyber team have the right people in the right places to maximize performance?\nWhen a cyber team has to jump into action quickly to collect\, analyze\, respond\, and remediate issues\, having a balanced team\, with respect to team roles\, makes all the difference between a successful containment or extended down-times\, data loss\, or stock price plunges. Attend the BELBIN-based discussion and follow up CYBER webinar to learn strategies for recruiting and building highly performing teams — balancing role and expertise needs with skills\, strengths and behaviors to go the distance together.\nDeeDee Smartt Lynch\, President and Chief Resource Investigator at Smartt Strategies\, has been helping organizations build stronger\, better teams for the past 10 years. She developed her passion for the Belbin philosophy while living in the United Kingdom. DeeDee ultimately became a certified Belbin trainer through Belbin Associates\, headquartered in Cambridge\, England.\nIn 2009\, she returned to the United States\, and began advocating for the Belbin Team Roles philosophy throughout North America\, where she has trained hundreds of people who work for multinational corporations\, small businesses\, nonprofits and government agencies\, including: Eli Lilly\, Xerox\, Trimble\, Gallo Wine\, Marriott\, Naval Air Systems Command\, U.S. Marines Corps Systems Command\, the World Bank\, the United Nations\, MITRE\, J.P. Morgan Chase\, Positive Approach to Teen Health\, Mercy Health Clinic and the Pew Charitable Trusts.\nDeeDee is a Texas native\, a graduate of the University of Texas at Austin\, and has worked in economic development\, marketing\, event management and in state government.\nLocation: Oracle Corporation 1900 Oracle Way Reston\, VA 20190 Registration: http://tinyurl.com/issa-nova-102016r2
URL:https://issa-centralmd.org/calendar/issa-nova-october-meeting/
CATEGORIES:Miscellaneous
END:VEVENT
BEGIN:VEVENT
DTSTART;VALUE=DATE:20161020
DTEND;VALUE=DATE:20161022
DTSTAMP:20260422T205850
CREATED:20161007T134410Z
LAST-MODIFIED:20161007T134418Z
UID:1084-1476921600-1477094399@issa-centralmd.org
SUMMARY:CyberMaryland Conference 2016
DESCRIPTION:The CyberMaryland Conference 2016 \n\n\n\n\n\n\n\n\n\nMaryland is recognized as a cybersecurity leader – nationally and internationally. The state has developed cybersecurity experts\, education and training programs\, technology\, products\, systems and infrastructure. With over 10 million cyber hacks a day resulting in an annual worldwide cost of over $100 billion\, the United States is at risk. \nLast year alone\, tens of millions of Americans had their identities and their bank accounts threatened or compromised. Ensuring that our nation has the workforce\, technology and resources to protect our citizens\, businesses\, infrastructure\, intellectual property and more is of paramount importance. Maryland continues to be a leader on this front.
URL:https://issa-centralmd.org/calendar/cybermaryland-conference-2016/
CATEGORIES:Miscellaneous
END:VEVENT
BEGIN:VEVENT
DTSTART;TZID=America/New_York:20161017T120000
DTEND;TZID=America/New_York:20161017T130000
DTSTAMP:20260422T205850
CREATED:20161004T100555Z
LAST-MODIFIED:20161004T100700Z
UID:1076-1476705600-1476709200@issa-centralmd.org
SUMMARY:ISSA WIS SIG Seminar
DESCRIPTION:Women in Security Special Interest Group & Women in Engineering (WIE)\nMonthly Webinar Series\nTAKING YOUR FIRST STEPS TOWARDS AN INFOSEC CAREER\nPresented by Ms. Tracy Z. Maleeff\, Sherpa Intelligence\, LLC\nMonday\, October 17\, 2016\, 12 noon – 1:00 PM Eastern\nEvery journey needs a guide. Get information security career transition advice from InfoSecSherpa! Using examples from her own experience\, our speaker will instruct webinar attendees on how to make that first step to begin a journey into information security. Gain an understanding of how to make personal branding work for you\, as well as the learn techniques to create\, grow\, and maintain a professional network. If you are considering a career in information security\, or are brand-new to it\, this webinar is for you. Tracy Z. Maleeff created her company\, Sherpa Intelligence\, to follow per passion and make a career transition into information security. She earned a Master of Library & Information Science from the University of Pittsburgh and spent most of her librarian career in law firms. In addition to being named a fellow of the Special Libraries Association\, she was the recipient of the Dow Jones Innovate Award and the Wolters Kluwer Law & Business Innovations in Law Librarianship Award. She recently authored a chapter in the eBook\, “Beginner’s Guide to Information Security: Kickstart Your Security Career with Insight from InfoSec Experts.” Tracy Tweets about security as @InfoSecSherpa and has more information at SherpaIntel.com – your guide up a mountain of information!\nLocation and Registration\nThe presenter will be remote\, presenting virtually. Registration is available at the following location:\nhttps://www.issa.org/events/EventDetails.aspx?id=726906&group=
URL:https://issa-centralmd.org/calendar/issa-wis-sig-seminar/
LOCATION:Virtual
CATEGORIES:Miscellaneous
END:VEVENT
BEGIN:VEVENT
DTSTART;TZID=America/New_York:20161011T180000
DTEND;TZID=America/New_York:20161011T211500
DTSTAMP:20260422T205850
CREATED:20161004T013745Z
LAST-MODIFIED:20161004T013745Z
UID:1068-1476208800-1476220500@issa-centralmd.org
SUMMARY:SANS Women's CONNECT Event
DESCRIPTION:Join SANS and ISSA International Women In Security Special Interest Group (WIS SIG) as we partner with local association chapters and groups to foster an evening of connections\, both by having their members attend and having group representatives on hand to discuss their group\, its activities and benefits of membership. \nFrom Jean Jennings Bartik to Diane Greene\, women have always been a driving force in the field of information technology. Their experiences have been filled not only with stories of overcoming challenges but also ones of innovation and inspiration. Enjoy the connection building and camaraderie of your peers\, while discussing the recent successes relating to local luminaries such as Susie Adams\, Anne Altman\, Beth Beck\, Diana Burley\, Sylvia Burns\, Cheryl Campbell\, Sheila Campbell\, Sen Maria Cantwell\, Teresa Carlson\, Phaedra Chrousos\, Beth Cobert\, Marilyn Crouther\, Karen Dahut\, Maria Davie\, Karen DeSalvo\, Deborah Diaz\, Donna Dodson\, Ann Dunkin\, Nicole Eagan\, Margie Graves\, Rear Adm. Jan Hamby\, Hillary Hartley\, Stephanie Hill\, Jeanne Holm\, Grace Hopper\, Kay Kapoor\, Bobbie Kilberg\, Gwynne Kostin\, Dawn Leaf\, Jane LeClair\, Michelle Lee\, Charlene Leubecker\, Lynn Martin\, Erie Meyer\, Linda Moore\, Amy Northcutt\, Stephanie O’Sullivan\, Linda Pierce\, Arati Prabhakar\, Penny Pritzker\, Maria Roat\, Terry Roberts\, Donna Roy\, Anne Rung\, Betty Sapp\, Lisa Schlosser\, Phyllis Schneck\, Megan Smith\, Roberta Stempfley\, Denise Turner Roth\, Davita Vance-Cooks\, among MANY others. \nFor more information about the SANS training event taking place during the week\, click here.
URL:https://issa-centralmd.org/calendar/sans-womens-connect-event/
CATEGORIES:Miscellaneous
END:VEVENT
END:VCALENDAR