BEGIN:VCALENDAR
VERSION:2.0
PRODID:-//Central Maryland Chapter of ISSA - ECPv6.15.20//NONSGML v1.0//EN
CALSCALE:GREGORIAN
METHOD:PUBLISH
X-WR-CALNAME:Central Maryland Chapter of ISSA
X-ORIGINAL-URL:https://issa-centralmd.org
X-WR-CALDESC:Events for Central Maryland Chapter of ISSA
REFRESH-INTERVAL;VALUE=DURATION:PT1H
X-Robots-Tag:noindex
X-PUBLISHED-TTL:PT1H
BEGIN:VTIMEZONE
TZID:America/New_York
BEGIN:DAYLIGHT
TZOFFSETFROM:-0500
TZOFFSETTO:-0400
TZNAME:EDT
DTSTART:20220313T070000
END:DAYLIGHT
BEGIN:STANDARD
TZOFFSETFROM:-0400
TZOFFSETTO:-0500
TZNAME:EST
DTSTART:20221106T060000
END:STANDARD
BEGIN:DAYLIGHT
TZOFFSETFROM:-0500
TZOFFSETTO:-0400
TZNAME:EDT
DTSTART:20230312T070000
END:DAYLIGHT
BEGIN:STANDARD
TZOFFSETFROM:-0400
TZOFFSETTO:-0500
TZNAME:EST
DTSTART:20231105T060000
END:STANDARD
BEGIN:DAYLIGHT
TZOFFSETFROM:-0500
TZOFFSETTO:-0400
TZNAME:EDT
DTSTART:20240310T070000
END:DAYLIGHT
BEGIN:STANDARD
TZOFFSETFROM:-0400
TZOFFSETTO:-0500
TZNAME:EST
DTSTART:20241103T060000
END:STANDARD
END:VTIMEZONE
BEGIN:VEVENT
DTSTART;TZID=America/New_York:20231213T170000
DTEND;TZID=America/New_York:20231213T193000
DTSTAMP:20260421T043841
CREATED:20230904T035955Z
LAST-MODIFIED:20231215T031123Z
UID:7982-1702486800-1702495800@issa-centralmd.org
SUMMARY:Membership Meeting 12/13/2023
DESCRIPTION:Chapter Business Meeting Slides: 2023-12-13 Meeting Presentation \nSpeaker Slides: Maryland: Economics of Cyber Conferences \nTopic: Attending Cybersecurity Events \n\nThe Maryland Department of Commerce is involved in shaping the cybersecurity industry within the state. As a leader in the cyber community at the Maryland Department of Commerce\, I promote\, attract\, and support Maryland technology companies through participation in conferences at the local\, national\, and international levels. In my presentation\, I will discuss the economic advantages and opportunities resulting from attending cybersecurity events such as BlackHat\, DefCon\, and InfoSec Europe. \nSpeaker: Kimberly Mentzell\, Director for Cybersecurity and Aerospace at the Maryland Department of Commerce. \nKimberly has worked in the technology field for over twenty years as an educator and professional in cybersecurity\, networking\, Linux\, and programming. She held positions as a cyber program manager\, IT manager\, network administrator\, technology coordinator\, programmer\, and auditor. She maintains several industry certifications\, as well as teaches at the collegiate level at Capitol Technology University and Frederick Community College. Kimberly serves as a member of the Maryland Cybersecurity Council\, the Maryland Cyber Coordinating Council\, and as the co-chair for the MD Cyber Education Committee in conjunction with the MD Center for Computing Education (MCCE) Steering Committee. In addition\, she serves as a founding/executive board member of the Capitol Technology University Center for Women in Cyber. She is also a member of the Computer Science Teachers Association (CSTA)\, Women in Cybersecurity (WiCys)\, Cybersecurity Association of Maryland (CAMI)\, Maryland Tech Council\, TechFrederick Advisory Board\, and Ethical Hacking Council Advisory Board. Recently\, she received the FISSEA Innovator of the Year Award from NIST for her contributions to cyber education and was inducted into the Order of Thor by the Military Cybersecurity Professionals Association. In addition\, she is also an active attendee and/or speaker at many local\, national\, and international cybersecurity conferences and events such as DefCon\, BlackHat\, RSA\, BSides\, and InfoSec – Europe.
URL:https://issa-centralmd.org/calendar/membership-meeting-12-20-2023/
LOCATION:MIC – Maryland Innovation Center\, 6751 Columbia Gateway Dr\, Columbia\, 21046
CATEGORIES:Meetings
ORGANIZER;CN="ISSA Central MD Chapter":MAILTO:V_P_Operations@issa-centralmd.org
END:VEVENT
END:VCALENDAR