BEGIN:VCALENDAR
VERSION:2.0
PRODID:-//Central Maryland Chapter of ISSA - ECPv6.15.20//NONSGML v1.0//EN
CALSCALE:GREGORIAN
METHOD:PUBLISH
X-WR-CALNAME:Central Maryland Chapter of ISSA
X-ORIGINAL-URL:https://issa-centralmd.org
X-WR-CALDESC:Events for Central Maryland Chapter of ISSA
REFRESH-INTERVAL;VALUE=DURATION:PT1H
X-Robots-Tag:noindex
X-PUBLISHED-TTL:PT1H
BEGIN:VTIMEZONE
TZID:America/New_York
BEGIN:DAYLIGHT
TZOFFSETFROM:-0500
TZOFFSETTO:-0400
TZNAME:EDT
DTSTART:20220313T070000
END:DAYLIGHT
BEGIN:STANDARD
TZOFFSETFROM:-0400
TZOFFSETTO:-0500
TZNAME:EST
DTSTART:20221106T060000
END:STANDARD
BEGIN:DAYLIGHT
TZOFFSETFROM:-0500
TZOFFSETTO:-0400
TZNAME:EDT
DTSTART:20230312T070000
END:DAYLIGHT
BEGIN:STANDARD
TZOFFSETFROM:-0400
TZOFFSETTO:-0500
TZNAME:EST
DTSTART:20231105T060000
END:STANDARD
BEGIN:DAYLIGHT
TZOFFSETFROM:-0500
TZOFFSETTO:-0400
TZNAME:EDT
DTSTART:20240310T070000
END:DAYLIGHT
BEGIN:STANDARD
TZOFFSETFROM:-0400
TZOFFSETTO:-0500
TZNAME:EST
DTSTART:20241103T060000
END:STANDARD
END:VTIMEZONE
BEGIN:VEVENT
DTSTART;TZID=America/New_York:20231115T170000
DTEND;TZID=America/New_York:20231115T190000
DTSTAMP:20260423T055035
CREATED:20230319T210114Z
LAST-MODIFIED:20231120T161306Z
UID:6922-1700067600-1700074800@issa-centralmd.org
SUMMARY:Membership Meeting 11/15/2023
DESCRIPTION:Click Here to register for the November 15\, 2023 ISSA Membership Meeting \nChapter Business Meeting Slides: November 15\, 2023 Membership Meeting Presentation \nSpeaker Slides: Public Private Partnerships \n\nTopic: Importance of Public Private Partnerships in Cybersecurity \nPrivate public partnerships for cybersecurity issues have become more important than ever over the last few years. \n\nAs cyber threat actors increase their efforts against private and public industry alike\, correlating all information to help secure corporate and government networks and help posture defensively is the key. \n\nSpeaker: Lorri Janssen-Anessi\, BlueVoyent\nHi\, I am Lorri Janssen-Anessi\, currently the Director of External Cyber Assessments. I am a STEM advocate\, volunteer coding teacher\, lifelong learner\, and lover of all things cybersecurity! I grew up in the Bay Area in Cupertino California. Instead of working at a one of the prevalent tech companies in the areas like many of my peers\, I joined the US Air Force.\n\nAfter enlisting\, I spent 20+ years working primarily in the public sector. My career in the US Air Force started as a technical language analyst working on one of the US government’s highest priority missions\, counter-terrorism\, after 9/11. As national priorities evolved and cyber attacks became more pervasive\, my role shifted to work in the Cyber Security Mission at the National Security Agency\, an organization that was truly a pioneer in the field of cybersecurity. \nFinding this new field to be extremely rewarding it kick-started my passion for all things technology and cyber-related. While working in this mission\, the need for more traditional education in this field became evident so I enrolled and successfully completed a master of Electrical and Computer Engineering\ at the Naval Postgraduate School. This was a challenging program that provided the necessary skills to help me have impactful contributions to the National Cybersecurity mission. It also highlighted the need to foster passion and interest in STEM for women\, minorities\, and the next generation\, which were and continue to be grossly underrepresented in this field. \nMy path to cybersecurity was not traditional\, so hopefully I am an example of how it is possible to get into a technical field with a little curiosity and interest\, some effort\, and bit of traditional and non-traditional training. I will continue to strive to share as much information and insight on STEM and cybersecurity to hopefully instill a bit of passion for these fields. \nClick Here to register for the November 15\, 2023 ISSA Membership Meeting
URL:https://issa-centralmd.org/calendar/membership-meeting-11-15-2023/
LOCATION:MIC – Maryland Innovation Center\, 6751 Columbia Gateway Dr\, Columbia\, 21046
CATEGORIES:Meetings
ORGANIZER;CN="ISSA Central MD Chapter":MAILTO:V_P_Operations@issa-centralmd.org
END:VEVENT
END:VCALENDAR