BEGIN:VCALENDAR
VERSION:2.0
PRODID:-//Central Maryland Chapter of ISSA - ECPv6.15.20//NONSGML v1.0//EN
CALSCALE:GREGORIAN
METHOD:PUBLISH
X-ORIGINAL-URL:https://issa-centralmd.org
X-WR-CALDESC:Events for Central Maryland Chapter of ISSA
REFRESH-INTERVAL;VALUE=DURATION:PT1H
X-Robots-Tag:noindex
X-PUBLISHED-TTL:PT1H
BEGIN:VTIMEZONE
TZID:America/New_York
BEGIN:DAYLIGHT
TZOFFSETFROM:-0500
TZOFFSETTO:-0400
TZNAME:EDT
DTSTART:20220313T070000
END:DAYLIGHT
BEGIN:STANDARD
TZOFFSETFROM:-0400
TZOFFSETTO:-0500
TZNAME:EST
DTSTART:20221106T060000
END:STANDARD
BEGIN:DAYLIGHT
TZOFFSETFROM:-0500
TZOFFSETTO:-0400
TZNAME:EDT
DTSTART:20230312T070000
END:DAYLIGHT
BEGIN:STANDARD
TZOFFSETFROM:-0400
TZOFFSETTO:-0500
TZNAME:EST
DTSTART:20231105T060000
END:STANDARD
BEGIN:DAYLIGHT
TZOFFSETFROM:-0500
TZOFFSETTO:-0400
TZNAME:EDT
DTSTART:20240310T070000
END:DAYLIGHT
BEGIN:STANDARD
TZOFFSETFROM:-0400
TZOFFSETTO:-0500
TZNAME:EST
DTSTART:20241103T060000
END:STANDARD
END:VTIMEZONE
BEGIN:VEVENT
DTSTART;TZID=America/New_York:20231025T170000
DTEND;TZID=America/New_York:20231025T193000
DTSTAMP:20260423T071809
CREATED:20230319T205218Z
LAST-MODIFIED:20231115T224307Z
UID:6918-1698253200-1698262200@issa-centralmd.org
SUMMARY:Membership Meeting 10/25/2023
DESCRIPTION:Chapter Business Meeting Slides: October 25\, 2023 Membership Meeting Presentation \nSpeaker Slides: When disaster strikes \nTopic: When disaster strikes… what you can do to prepare until help arrives.  \n\nA police officer is many things in one. At times a police officer must be a peacekeeper\, a counselor\, an enforcer\, and a life saver. All these jobs carry the responsibility of knowledge in all fields. A police officer must understand mental health issues\, information security\, local and state laws\, criminal and civil laws\, and emergency medicine. A police officer is the first person to arrive in an emergency and must act quick and efficiently. Many police officers obtain specialties that further advance them toward solving problems. Teresa specialties are aimed a lifesaving operations and preservation of life after disaster strikes. \nSpeaker: Teresa Murphy\, Prince George’s County Police Department \nTeresa Murphy is an eleven-year veteran of Prince George’s County Police. She received a bachelor’s degree in business and accounting from the University of New Mexico and has continued studies in disaster preparedness online from various universities and FEMA instructions. Her current field placement is a Sergeant of Shift 5 in Bowie\, Maryland. She is interested in community relations and disaster recovery/ preparation. She is highly trained in special operation techniques to include Swift Water Advanced Rescue\, Certified Bomb Technician\, Radiation Detection\, Civil Disturbance Level 1\, Crash Reconstruction Levels 1\,2\, and 3\, and is an FAA certified UAS Remote Pilot. She recently completed Incident Command Systems 400 that deals with large scale natural disaster recovery.. \n 
URL:https://issa-centralmd.org/calendar/issa-central-md-cybersecurity-conference/
LOCATION:MIC – Maryland Innovation Center\, 6751 Columbia Gateway Dr\, Columbia\, 21046
CATEGORIES:Meetings
ORGANIZER;CN="ISSA Central MD Chapter":MAILTO:V_P_Operations@issa-centralmd.org
END:VEVENT
END:VCALENDAR