BEGIN:VCALENDAR
VERSION:2.0
PRODID:-//Central Maryland Chapter of ISSA - ECPv6.15.20//NONSGML v1.0//EN
CALSCALE:GREGORIAN
METHOD:PUBLISH
X-ORIGINAL-URL:https://issa-centralmd.org
X-WR-CALDESC:Events for Central Maryland Chapter of ISSA
REFRESH-INTERVAL;VALUE=DURATION:PT1H
X-Robots-Tag:noindex
X-PUBLISHED-TTL:PT1H
BEGIN:VTIMEZONE
TZID:America/New_York
BEGIN:DAYLIGHT
TZOFFSETFROM:-0500
TZOFFSETTO:-0400
TZNAME:EDT
DTSTART:20220313T070000
END:DAYLIGHT
BEGIN:STANDARD
TZOFFSETFROM:-0400
TZOFFSETTO:-0500
TZNAME:EST
DTSTART:20221106T060000
END:STANDARD
BEGIN:DAYLIGHT
TZOFFSETFROM:-0500
TZOFFSETTO:-0400
TZNAME:EDT
DTSTART:20230312T070000
END:DAYLIGHT
BEGIN:STANDARD
TZOFFSETFROM:-0400
TZOFFSETTO:-0500
TZNAME:EST
DTSTART:20231105T060000
END:STANDARD
BEGIN:DAYLIGHT
TZOFFSETFROM:-0500
TZOFFSETTO:-0400
TZNAME:EDT
DTSTART:20240310T070000
END:DAYLIGHT
BEGIN:STANDARD
TZOFFSETFROM:-0400
TZOFFSETTO:-0500
TZNAME:EST
DTSTART:20241103T060000
END:STANDARD
END:VTIMEZONE
BEGIN:VEVENT
DTSTART;TZID=America/New_York:20230927T170000
DTEND;TZID=America/New_York:20230927T190000
DTSTAMP:20260423T090228
CREATED:20230218T041635Z
LAST-MODIFIED:20230927T215625Z
UID:6660-1695834000-1695841200@issa-centralmd.org
SUMMARY:Membership Meeting 9/27/2023
DESCRIPTION:Chapter Business Meeting Slides: September 27\, 2023 Membership Meeting Presentation \nSpeaker Slides: Crime Lab Presentation ISSA Central MD \n\nTopic: What’s it like to work in a Crime Lab?  \nWe have all seen Crime Lab technicians on television shows such as NCIS and CSI analyzing evidence to try solve crimes.  How accurate is television’s portrayal? Hear from experts who work for the Baltimore City Police Department about what they do to analyze and assess evidence.  Learn about what tools and techniques are being used to fight crime.  What training does it take to do this type of work?  Be able to tell your friends if what they are watching on television is the way it really is! \nSpeaker:  Nicole Belle & Kieu P. Danh\, Crime Scene Sciences Section\, Baltimore Police Department\n\nThis meeting features two representatives from the Baltimore Police Department Forensic Science and Evidence Management Division.  Nicole Belle is a Crime Laboratory Technician Supervisor.  She began her career in Forensics in 2017\, starting in the Crime Scene Unit as a Crime Laboratory Technician working and processing hundreds of crime scenes.  She received her Master of Science in Forensic Science from National University and her Bachelor of Science in Forensic Chemistry and Chemistry from Towson University.  Kieu P. Danh became a Crime Laboratory Supervisor in June 2023 and started with the Division in 2018.  She a brief tour in the Carroll County Sheriff’s Office Criminal Investigation Unit.  She earned her Master of Science and his Bachelor of Science in Criminal Justice December from the University of Baltimore.
URL:https://issa-centralmd.org/calendar/membership-meeting-9-27-2023/
LOCATION:MIC – Maryland Innovation Center\, 6751 Columbia Gateway Dr\, Columbia\, 21046
CATEGORIES:Meetings
ORGANIZER;CN="ISSA Central MD Chapter":MAILTO:V_P_Operations@issa-centralmd.org
END:VEVENT
END:VCALENDAR