BEGIN:VCALENDAR
VERSION:2.0
PRODID:-//Central Maryland Chapter of ISSA - ECPv6.15.20//NONSGML v1.0//EN
CALSCALE:GREGORIAN
METHOD:PUBLISH
X-ORIGINAL-URL:https://issa-centralmd.org
X-WR-CALDESC:Events for Central Maryland Chapter of ISSA
REFRESH-INTERVAL;VALUE=DURATION:PT1H
X-Robots-Tag:noindex
X-PUBLISHED-TTL:PT1H
BEGIN:VTIMEZONE
TZID:America/New_York
BEGIN:DAYLIGHT
TZOFFSETFROM:-0500
TZOFFSETTO:-0400
TZNAME:EDT
DTSTART:20220313T070000
END:DAYLIGHT
BEGIN:STANDARD
TZOFFSETFROM:-0400
TZOFFSETTO:-0500
TZNAME:EST
DTSTART:20221106T060000
END:STANDARD
BEGIN:DAYLIGHT
TZOFFSETFROM:-0500
TZOFFSETTO:-0400
TZNAME:EDT
DTSTART:20230312T070000
END:DAYLIGHT
BEGIN:STANDARD
TZOFFSETFROM:-0400
TZOFFSETTO:-0500
TZNAME:EST
DTSTART:20231105T060000
END:STANDARD
BEGIN:DAYLIGHT
TZOFFSETFROM:-0500
TZOFFSETTO:-0400
TZNAME:EDT
DTSTART:20240310T070000
END:DAYLIGHT
BEGIN:STANDARD
TZOFFSETFROM:-0400
TZOFFSETTO:-0500
TZNAME:EST
DTSTART:20241103T060000
END:STANDARD
END:VTIMEZONE
BEGIN:VEVENT
DTSTART;TZID=America/New_York:20230726T170000
DTEND;TZID=America/New_York:20230726T190000
DTSTAMP:20260423T121115
CREATED:20230218T041031Z
LAST-MODIFIED:20230726T215531Z
UID:6656-1690390800-1690398000@issa-centralmd.org
SUMMARY:Membership Meeting 7/26/2023
DESCRIPTION:Chapter Business Meeting Slides: 2023-07-26 Meeting Slides \nSpeaker Slides: Universal Cyber Intelligence Briefing \nNew Cybersecurity Policy Considerations — Distribution Copy \n\nTopic: Wide World of Cyber \nThe need to validate that cybersecurity policies and procedures remain sufficient (or if not are updated/revised/expanded as needed) to appropriately protect the organization relative to new and emerging risks that emanate from new technologies\, operational paradigm shifts\, and a continually evolving threat landscape.  This list includes: \n\nOperations Technology (OT) & Internet of Things\nArtificial Intelligence /Machine Learning\nCloud Computing/Shared Public Infrastructure (including Global Communications)\nQuantum Computing\nBlockchain\n5G Networks / Smart City Infrastructure\nReturn to Office (RTO)\nAugmented Reality / Virtual Reality\nBiometric Authentication\nAutonomous Vehicles\nWearable Technology\nDrones\nSmart Homes\n\nSpeaker: Jason Taule\, Cyber Advisory Council Chair and CISO-In-Residence\, of the Maryland Innovation Center (MIC)\n\nJason Taule is a 30+ year information assurance and cybersecurity veteran who has worked in both the intelligence community and commercial sectors first consulting to Federal agencies and then serving as inside CISO and CPO both within Government and at large systems integrators like General Dynamics and CSC. \nMr. Taule helped build the original DARPA CERT\, helped develop the first computer security programs at the VA and NASA\, and revised the Risk Assessment Methodology still used throughout the Federal Government. Mr. Taule helped author the Maryland Data Privacy Law\, led a multi-million-dollar global cyber security practice for a large international consulting firm\, ran the team responsible for HIPAA complaint investigations for OCR for 3 years\, and for the last 20 years has been a luminary in the US Health IT sector helping hundreds of systems earn their accreditations and avoid compromise. Mr. Taule previously served as the inside CISO and VP of Standards for HITRUST\, where he was responsible for developing and maintaining the Common Security Framework (CSF). \nMr. Taule currently serves as the Cyber Advisory Council Chair and CISO-In-Residence\, of the Maryland Innovation Center (MIC)\, an advanced business incubator helping companies in the greater Washington-Baltimore metroplex start and grow. In this capacity\, Mr. Taule oversees and directs the cyber activities in which the MIC engages. This includes developing and providing assessment\, training\, and enhancement programs designed to help residents and affiliates understand\, build\, and maintain programs of cyber hygiene\, developing content and cultivating partnerships and support services to recognize trends and respond to emerging threats\, and serving in an CISO advisory capacity with respect to fulfilling customer assurance and regulatory mandates\, meeting cyber requirements necessary to raise investment capital\, and managing risk to achieve maximum exit valuation.
URL:https://issa-centralmd.org/calendar/membership-meeting-7-26-2023/
LOCATION:MIC – Maryland Innovation Center\, 6751 Columbia Gateway Dr\, Columbia\, 21046
CATEGORIES:Meetings
ORGANIZER;CN="ISSA Central MD Chapter":MAILTO:V_P_Operations@issa-centralmd.org
END:VEVENT
END:VCALENDAR