BEGIN:VCALENDAR
VERSION:2.0
PRODID:-//Central Maryland Chapter of ISSA - ECPv6.15.20//NONSGML v1.0//EN
CALSCALE:GREGORIAN
METHOD:PUBLISH
X-WR-CALNAME:Central Maryland Chapter of ISSA
X-ORIGINAL-URL:https://issa-centralmd.org
X-WR-CALDESC:Events for Central Maryland Chapter of ISSA
REFRESH-INTERVAL;VALUE=DURATION:PT1H
X-Robots-Tag:noindex
X-PUBLISHED-TTL:PT1H
BEGIN:VTIMEZONE
TZID:America/New_York
BEGIN:DAYLIGHT
TZOFFSETFROM:-0500
TZOFFSETTO:-0400
TZNAME:EDT
DTSTART:20220313T070000
END:DAYLIGHT
BEGIN:STANDARD
TZOFFSETFROM:-0400
TZOFFSETTO:-0500
TZNAME:EST
DTSTART:20221106T060000
END:STANDARD
BEGIN:DAYLIGHT
TZOFFSETFROM:-0500
TZOFFSETTO:-0400
TZNAME:EDT
DTSTART:20230312T070000
END:DAYLIGHT
BEGIN:STANDARD
TZOFFSETFROM:-0400
TZOFFSETTO:-0500
TZNAME:EST
DTSTART:20231105T060000
END:STANDARD
BEGIN:DAYLIGHT
TZOFFSETFROM:-0500
TZOFFSETTO:-0400
TZNAME:EDT
DTSTART:20240310T070000
END:DAYLIGHT
BEGIN:STANDARD
TZOFFSETFROM:-0400
TZOFFSETTO:-0500
TZNAME:EST
DTSTART:20241103T060000
END:STANDARD
END:VTIMEZONE
BEGIN:VEVENT
DTSTART;TZID=America/New_York:20230628T170000
DTEND;TZID=America/New_York:20230628T190000
DTSTAMP:20260423T133511
CREATED:20230218T040343Z
LAST-MODIFIED:20230628T222309Z
UID:6646-1687971600-1687978800@issa-centralmd.org
SUMMARY:Membership Meeting 6/28/2023
DESCRIPTION:Chapter Business Meeting Slides: 06-28-2023 Meeting Slides \nTopic: Cybersecurity Maturity Model Certification (CMMC)  \n\nDoD’s Cybersecurity Maturity Model Certification (CMMC) Program was designed to provide increased assurance to the DoD that a DIB contractor can adequately protect sensitive unclassified information (i.e.\, FCI and CUI) at a level commensurate with the risk\, and accounting for information flow down to its subcontractors in a multi-tier supply chain.  CMMC was initially implemented as an interim DFARS rule in September 2020 (DFARS Case 2019-D041).  In March 2021\, in response to over 850 public comments\, the program was modified and streamlined to CMMC 2.0.  The revised CMMC Program aligns with existing cybersecurity models. Once implemented through the rulemaking process\, when applicable through acquisitions vehicles\, CMMC requirements will be required for prime contractors and their subcontractors. While the rule is being finalized\, it is important to continue to prepare now!  Come learn more about CMMC 2.0 and recommended next steps. \nSpeaker: Dawn M Greenman\, Program Manager Cybersecurity Compliance for Johns Hopkins Applied Physics Laboratory (JHU/APL)\n\nDawn M Greenman is Program Manager Cybersecurity Compliance for Johns Hopkins Applied Physics Laboratory (JHU/APL).  In this position\, she oversees the cybersecurity compliance and supply chain risk management strategy across the organization. Since 2013\, she has ensured JHU/APL’s compliance with DFARS 7012 and NIST SP 800-171. During this time\, she developed relationships with the small business community and learned of the unique challenges small businesses had meeting the cybersecurity requirements. Ms. Greenman became an advocate for small businesses. She helps lead working groups with DoD and industry to develop strategies to help small businesses improve the protection of controlled unclassified information. \nThrough JHU/APL\, Ms. Greenman also worked for 3 ½ years with DoD CIO and DoD Office of Sustainment and Acquisition to develop and support the Cybersecurity Maturity Model Certification (CMMC) Program. \nMs. Greenman holds an undergraduate degree in Information Systems with a concentration in Homeland Security and an Executive Masters of Business Administration from The University of Maryland Robert H. Smith School Of Business.  She is a Certified Information Security Professional (CISSP) and holds the GIAC Security Essentials (GSEC) certification.
URL:https://issa-centralmd.org/calendar/membership-meeting-6-28-2023/
LOCATION:MIC – Maryland Innovation Center\, 6751 Columbia Gateway Dr\, Columbia\, 21046
CATEGORIES:Meetings
ORGANIZER;CN="ISSA Central MD Chapter":MAILTO:V_P_Operations@issa-centralmd.org
END:VEVENT
END:VCALENDAR