BEGIN:VCALENDAR
VERSION:2.0
PRODID:-//Central Maryland Chapter of ISSA - ECPv6.15.20//NONSGML v1.0//EN
CALSCALE:GREGORIAN
METHOD:PUBLISH
X-ORIGINAL-URL:https://issa-centralmd.org
X-WR-CALDESC:Events for Central Maryland Chapter of ISSA
REFRESH-INTERVAL;VALUE=DURATION:PT1H
X-Robots-Tag:noindex
X-PUBLISHED-TTL:PT1H
BEGIN:VTIMEZONE
TZID:America/New_York
BEGIN:DAYLIGHT
TZOFFSETFROM:-0500
TZOFFSETTO:-0400
TZNAME:EDT
DTSTART:20220313T070000
END:DAYLIGHT
BEGIN:STANDARD
TZOFFSETFROM:-0400
TZOFFSETTO:-0500
TZNAME:EST
DTSTART:20221106T060000
END:STANDARD
BEGIN:DAYLIGHT
TZOFFSETFROM:-0500
TZOFFSETTO:-0400
TZNAME:EDT
DTSTART:20230312T070000
END:DAYLIGHT
BEGIN:STANDARD
TZOFFSETFROM:-0400
TZOFFSETTO:-0500
TZNAME:EST
DTSTART:20231105T060000
END:STANDARD
BEGIN:DAYLIGHT
TZOFFSETFROM:-0500
TZOFFSETTO:-0400
TZNAME:EDT
DTSTART:20240310T070000
END:DAYLIGHT
BEGIN:STANDARD
TZOFFSETFROM:-0400
TZOFFSETTO:-0500
TZNAME:EST
DTSTART:20241103T060000
END:STANDARD
END:VTIMEZONE
BEGIN:VEVENT
DTSTART;TZID=America/New_York:20230322T170000
DTEND;TZID=America/New_York:20230322T193000
DTSTAMP:20260423T182300
CREATED:20221109T215529Z
LAST-MODIFIED:20230329T005454Z
UID:6011-1679504400-1679513400@issa-centralmd.org
SUMMARY:Membership Meeting 3/22/2023
DESCRIPTION:Chapter Business Meeting Slides: 2023-03-22 Meeting Slides \nSpeaker Slides: 2023-03-22 Security Architecture Post Covid \n\nTopic: Security Architecture in the Age of Covid \nSecurity Architecture was hard enough\, but then Covid sent all of your employees home.  A Remote Access infrastructure meant for a fraction of your employees now had to support everyone.  Three years later no one wants to go back into the office.  Your security architecture needs to adapt to secure your employees now wherever they may be\, how are you going to do it?\n\nSpeaker: Christopher McGranahan\, Director of Security Architecture at BackBlaze  \nChris McGranahan currently works as the Director of Security Architecture and Engineering at Backblaze.  He has more than twenty years of experience in cybersecurity in a wide variety of roles in multiple industries.
URL:https://issa-centralmd.org/calendar/membership-meeting-3-22-2023/
LOCATION:Convergint | Federal\, 6650 Eli Whitney Dr\, Suite 400\, Columbia\, MD\, 21046\, United States
CATEGORIES:Meetings
ORGANIZER;CN="ISSA Central MD Chapter":MAILTO:V_P_Operations@issa-centralmd.org
END:VEVENT
END:VCALENDAR