BEGIN:VCALENDAR
VERSION:2.0
PRODID:-//Central Maryland Chapter of ISSA - ECPv6.15.20//NONSGML v1.0//EN
CALSCALE:GREGORIAN
METHOD:PUBLISH
X-ORIGINAL-URL:https://issa-centralmd.org
X-WR-CALDESC:Events for Central Maryland Chapter of ISSA
REFRESH-INTERVAL;VALUE=DURATION:PT1H
X-Robots-Tag:noindex
X-PUBLISHED-TTL:PT1H
BEGIN:VTIMEZONE
TZID:America/New_York
BEGIN:DAYLIGHT
TZOFFSETFROM:-0500
TZOFFSETTO:-0400
TZNAME:EDT
DTSTART:20210314T070000
END:DAYLIGHT
BEGIN:STANDARD
TZOFFSETFROM:-0400
TZOFFSETTO:-0500
TZNAME:EST
DTSTART:20211107T060000
END:STANDARD
BEGIN:DAYLIGHT
TZOFFSETFROM:-0500
TZOFFSETTO:-0400
TZNAME:EDT
DTSTART:20220313T070000
END:DAYLIGHT
BEGIN:STANDARD
TZOFFSETFROM:-0400
TZOFFSETTO:-0500
TZNAME:EST
DTSTART:20221106T060000
END:STANDARD
BEGIN:DAYLIGHT
TZOFFSETFROM:-0500
TZOFFSETTO:-0400
TZNAME:EDT
DTSTART:20230312T070000
END:DAYLIGHT
BEGIN:STANDARD
TZOFFSETFROM:-0400
TZOFFSETTO:-0500
TZNAME:EST
DTSTART:20231105T060000
END:STANDARD
END:VTIMEZONE
BEGIN:VEVENT
DTSTART;TZID=America/New_York:20220928T170000
DTEND;TZID=America/New_York:20220928T193000
DTSTAMP:20260424T040003
CREATED:20211114T021600Z
LAST-MODIFIED:20220928T220301Z
UID:4599-1664384400-1664393400@issa-centralmd.org
SUMMARY:Membership Meeting 9/28/2022
DESCRIPTION:The September ISSA Membership Meeting is sponsored by:\n \nhttps://bigid.com\nChapter Business Meeting Slides: 2022-09-28 Meeting Presentation \nSpeaker Slides: 2022-09-28 DIVERSITY\, PIPELINES\, BARRIERS \n\nTopic: DIVERSITY\, PIPELINES\, BARRIERS \n\n  \n\nSpeaker: Martha Laughman \n\nFirst Cybersecurity Mil Skillbridge Program\nFirst DOL Cyber Apprenticeship in MD\nFirst All-Female Cyber Apprenticeship\nFounding Board Member of WiCys Mil Affiliate\nNICE Working Group Member\nExecutive Director of GA Cyber Bootcamp\nServed on 4 boards of Tech Start Ups\nCo-Founded Esport Non-profit for Mil Kids\nBS + MS Industrial Organizational Psyc\nPhD (ABD) Organizational Psychology\nSelected for Maryland DOL Gov Board\n\n\n 
URL:https://issa-centralmd.org/calendar/membership-meeting-9-28-2022/
LOCATION:HubSpot—The Gathering Place on the Gateway\, 6724 Alexander Bell Drive Hub Spot\, Suite 105\, Columbia\, MD\, 21046
CATEGORIES:Meetings
ORGANIZER;CN="ISSA Central MD Chapter":MAILTO:V_P_Operations@issa-centralmd.org
END:VEVENT
END:VCALENDAR