BEGIN:VCALENDAR
VERSION:2.0
PRODID:-//Central Maryland Chapter of ISSA - ECPv6.15.20//NONSGML v1.0//EN
CALSCALE:GREGORIAN
METHOD:PUBLISH
X-WR-CALNAME:Central Maryland Chapter of ISSA
X-ORIGINAL-URL:https://issa-centralmd.org
X-WR-CALDESC:Events for Central Maryland Chapter of ISSA
REFRESH-INTERVAL;VALUE=DURATION:PT1H
X-Robots-Tag:noindex
X-PUBLISHED-TTL:PT1H
BEGIN:VTIMEZONE
TZID:America/New_York
BEGIN:DAYLIGHT
TZOFFSETFROM:-0500
TZOFFSETTO:-0400
TZNAME:EDT
DTSTART:20210314T070000
END:DAYLIGHT
BEGIN:STANDARD
TZOFFSETFROM:-0400
TZOFFSETTO:-0500
TZNAME:EST
DTSTART:20211107T060000
END:STANDARD
BEGIN:DAYLIGHT
TZOFFSETFROM:-0500
TZOFFSETTO:-0400
TZNAME:EDT
DTSTART:20220313T070000
END:DAYLIGHT
BEGIN:STANDARD
TZOFFSETFROM:-0400
TZOFFSETTO:-0500
TZNAME:EST
DTSTART:20221106T060000
END:STANDARD
BEGIN:DAYLIGHT
TZOFFSETFROM:-0500
TZOFFSETTO:-0400
TZNAME:EDT
DTSTART:20230312T070000
END:DAYLIGHT
BEGIN:STANDARD
TZOFFSETFROM:-0400
TZOFFSETTO:-0500
TZNAME:EST
DTSTART:20231105T060000
END:STANDARD
END:VTIMEZONE
BEGIN:VEVENT
DTSTART;TZID=America/New_York:20220824T170000
DTEND;TZID=America/New_York:20220824T193000
DTSTAMP:20260424T054634
CREATED:20211114T021416Z
LAST-MODIFIED:20220825T142414Z
UID:4597-1661360400-1661369400@issa-centralmd.org
SUMMARY:Membership Meeting 8/24/2022
DESCRIPTION:The August ISSA membership meeting is sponsored by:\n \nClick Here to register for the August 24\, 2022 ISSA Membership Meeting. \nChapter Business Meeting Slides: 2022-08-24 Membership Meeting Slides \nSpeaker Slides: 2202-08-24 Supply Chain Security \n\nTopic: Supply Chain Security: Preventing Second Hand or Counterfeit Computing Device Components \nIncreasingly\, large enterprise customers are requiring Original Design Manufacturers (ODMs) and/or Original Equipment Manufacturers (OEM) to show demonstrable proof that they have a secure supply chain. These manufacturers must prove\, through controlled\, documented\, and audited means\, that their supply chain ecosystem is secure throughout the product development lifecycle (pre-manufacturing through product end-of-life.) This legitimate concern is based on the growing threat posed by second hand or counterfeit computing device components. Disruptions in supply chains and the possible introduction of counterfeit components can increase risks to the proper functioning and overall reliability of electronic devices. Even worse\, such contaminated platforms may include malware that could potentially lead to data theft or other types of system compromise. To prevent this\, organizations should only partner with technology vendors that provide verifiable proof that their products are free of second hand or counterfeit components. To do so\, a manufacturer should be able to trace serial numbers or similar identifiers that are stamped or embedded on hardware during downstream manufacturing. For software components\, these manufacturers should work with their software vendors to ensure that only accurate\, non-counterfeit software is ever installed on their products. \nSpeaker: Kevin McPeak\, Deputy Director within the Lenovo Chief Security Office \n\nKevin McPeak\, CISSP\, ITILv3 is a Deputy Director within the Lenovo Chief Security Office. Kevin is a technical SME for endpoint management\, endpoint security\, data loss prevention\, encryption\, mobile device app management\, secure mobile content delivery\, and new defensive technologies. Kevin has two Masters of Science degrees\, with one being earned at Johns Hopkins University and the other being earned at Virginia Tech. He is a part-time PhD candidate at Virginia Tech’s northern Virginia extension campus and is completing his dissertation. Kevin previously worked for Symantec Corporation where he was their Public Sector Principal Cybersecurity Architect. Prior to Symantec\, Kevin worked as an on-site contractor (CACI\, Lockheed Martin\, and AlphaInsight) where he conducted cybersecurity work across numerous Federal Government agencies. Additionally\, Kevin is a US Army veteran of both Operation Enduring Freedom (2003) and Operation Iraqi Freedom (2010 – 2011). \nClick Here to register for the August 24\, 2022 ISSA Membership Meeting.
URL:https://issa-centralmd.org/calendar/membership-meeting-8-24-2022/
LOCATION:HubSpot—The Gathering Place on the Gateway\, 6724 Alexander Bell Drive Hub Spot\, Suite 105\, Columbia\, MD\, 21046
CATEGORIES:Meetings
ORGANIZER;CN="ISSA Central MD Chapter":MAILTO:V_P_Operations@issa-centralmd.org
END:VEVENT
END:VCALENDAR