BEGIN:VCALENDAR
VERSION:2.0
PRODID:-//Central Maryland Chapter of ISSA - ECPv6.15.20//NONSGML v1.0//EN
CALSCALE:GREGORIAN
METHOD:PUBLISH
X-ORIGINAL-URL:https://issa-centralmd.org
X-WR-CALDESC:Events for Central Maryland Chapter of ISSA
REFRESH-INTERVAL;VALUE=DURATION:PT1H
X-Robots-Tag:noindex
X-PUBLISHED-TTL:PT1H
BEGIN:VTIMEZONE
TZID:America/New_York
BEGIN:DAYLIGHT
TZOFFSETFROM:-0500
TZOFFSETTO:-0400
TZNAME:EDT
DTSTART:20210314T070000
END:DAYLIGHT
BEGIN:STANDARD
TZOFFSETFROM:-0400
TZOFFSETTO:-0500
TZNAME:EST
DTSTART:20211107T060000
END:STANDARD
BEGIN:DAYLIGHT
TZOFFSETFROM:-0500
TZOFFSETTO:-0400
TZNAME:EDT
DTSTART:20220313T070000
END:DAYLIGHT
BEGIN:STANDARD
TZOFFSETFROM:-0400
TZOFFSETTO:-0500
TZNAME:EST
DTSTART:20221106T060000
END:STANDARD
BEGIN:DAYLIGHT
TZOFFSETFROM:-0500
TZOFFSETTO:-0400
TZNAME:EDT
DTSTART:20230312T070000
END:DAYLIGHT
BEGIN:STANDARD
TZOFFSETFROM:-0400
TZOFFSETTO:-0500
TZNAME:EST
DTSTART:20231105T060000
END:STANDARD
END:VTIMEZONE
BEGIN:VEVENT
DTSTART;TZID=America/New_York:20220622T170000
DTEND;TZID=America/New_York:20220622T193000
DTSTAMP:20260424T092538
CREATED:20211114T021117Z
LAST-MODIFIED:20220623T232626Z
UID:4593-1655917200-1655926200@issa-centralmd.org
SUMMARY:Membership Meeting 6/22/2022
DESCRIPTION:Chapter Business Meeting Slides: 2022-06-22 Membership Meeting Slides \nSpeaker Slides: OpenText – NDR Empowering Cyber – June-2022 \n\nBusiness Meeting and Speaker Recording: Zoom Meeting Recording \nTopic: Achieving Vital Network Visibility and Proactive Threat Hunting with Network Detection and Response \nEnterprise networks are experiencing a deluge of highly sophisticated threats from motivated attackers. Cloud computing\, remote working\, and traffic encryption expand the attack surface while making threats harder to detect. Addressing security gaps requires total visibility and a proactive approach to finding threats. This presentation will explore how Network Detection and Response (NDR) empowers security operations professionals in fast-evolving infrastructures. \nSpeaker: Carl Bolterstein is Director of Product Management for Bricata NDR \nCarl Bolterstein is Director of Product Management for Bricata NDR for OpenText Enterprise Security. Carl has over a decade of cyber security engineering and analyst experience with an extensive background in the network detection and response platform space. He has focused on the full analyst experience of NDR which includes training on how to effectively leverage network data for both incident response and hunting for unknowns. Previously\, he has held roles leading customer experience as well as technical roles in and around NDR platforms from sales to professional services.
URL:https://issa-centralmd.org/calendar/membership-meeting-6-22-2022/
LOCATION:HubSpot—The Gathering Place on the Gateway\, 6724 Alexander Bell Drive Hub Spot\, Suite 105\, Columbia\, MD\, 21046
CATEGORIES:Meetings
ORGANIZER;CN="ISSA Central MD Chapter":MAILTO:V_P_Operations@issa-centralmd.org
END:VEVENT
END:VCALENDAR