BEGIN:VCALENDAR
VERSION:2.0
PRODID:-//Central Maryland Chapter of ISSA - ECPv6.15.20//NONSGML v1.0//EN
CALSCALE:GREGORIAN
METHOD:PUBLISH
X-WR-CALNAME:Central Maryland Chapter of ISSA
X-ORIGINAL-URL:https://issa-centralmd.org
X-WR-CALDESC:Events for Central Maryland Chapter of ISSA
REFRESH-INTERVAL;VALUE=DURATION:PT1H
X-Robots-Tag:noindex
X-PUBLISHED-TTL:PT1H
BEGIN:VTIMEZONE
TZID:America/New_York
BEGIN:DAYLIGHT
TZOFFSETFROM:-0500
TZOFFSETTO:-0400
TZNAME:EDT
DTSTART:20210314T070000
END:DAYLIGHT
BEGIN:STANDARD
TZOFFSETFROM:-0400
TZOFFSETTO:-0500
TZNAME:EST
DTSTART:20211107T060000
END:STANDARD
BEGIN:DAYLIGHT
TZOFFSETFROM:-0500
TZOFFSETTO:-0400
TZNAME:EDT
DTSTART:20220313T070000
END:DAYLIGHT
BEGIN:STANDARD
TZOFFSETFROM:-0400
TZOFFSETTO:-0500
TZNAME:EST
DTSTART:20221106T060000
END:STANDARD
BEGIN:DAYLIGHT
TZOFFSETFROM:-0500
TZOFFSETTO:-0400
TZNAME:EDT
DTSTART:20230312T070000
END:DAYLIGHT
BEGIN:STANDARD
TZOFFSETFROM:-0400
TZOFFSETTO:-0500
TZNAME:EST
DTSTART:20231105T060000
END:STANDARD
END:VTIMEZONE
BEGIN:VEVENT
DTSTART;TZID=America/New_York:20220323T170000
DTEND;TZID=America/New_York:20220323T193000
DTSTAMP:20260424T143418
CREATED:20211114T015941Z
LAST-MODIFIED:20220407T011246Z
UID:4587-1648054800-1648063800@issa-centralmd.org
SUMMARY:Membership Meeting 3/23/2022
DESCRIPTION:Chapter Business Meeting Slides: 2022-03-22 Meeting Slides \nSpeaker’s Recording: Zoom Meeting Recording – Speaker Recording \n\nMeeting Sponsor Presentation: ASPG-Sponsor-Presentation-2022-03-22.pdf \nTopic: Human Security Engineering: Stop Relying on the Failed Human Firewall \nWhile the main perception is that the “user problem” is due to a malicious party trying to trick well intentioned users\, users who are unaware\, apathetic\, careless\, etc.\, are more likely to be the cause of loss. Either way\, the cybersecurity industry realizes this and develops tactics such as awareness\, MFA\, DLP\, etc. to mitigate the problem. Despite all of these tactics\, 90%+ of all losses result from attacks targeting users. What this talk proposes is a comprehensive strategy to address the insider threat\, whether it results from malicious or well meaning insiders. \nSpeaker: Ira Winkler\, Chief Security Architect for Walmart  \n\nIra Winkler\, CISSP is Chief Security Architect for Walmart and author of You Can Stop Stupid. He is considered one of the world’s most influential security professionals\, and has been named a “Modern Day James Bond” by the media. He did this by performing espionage simulations\, where he physically and technically “broke into” some of the largest companies in the World and investigating crimes against them\, and telling them how to cost effectively protect their information and computer infrastructure. He continues to perform these espionage simulations\, as well as assisting organizations in developing cost effective security programs. Ira also won the Hall of Fame award from the Information Systems Security Association\, as well as several other prestigious industry awards. CSO Magazine named Ira a CSO Compass Award winner as The Awareness Crusader. Most recently\, Ira was named 2021 Top Cybersecurity Leader by Security Magazine. \nClick Here to register for the March 23\, 2022 ISSA Membership Meeting.
URL:https://issa-centralmd.org/calendar/membership-meeting-3-23-2022/
LOCATION:HubSpot—The Gathering Place on the Gateway\, 6724 Alexander Bell Drive Hub Spot\, Suite 105\, Columbia\, MD\, 21046
CATEGORIES:Meetings
ORGANIZER;CN="ISSA Central MD Chapter":MAILTO:V_P_Operations@issa-centralmd.org
END:VEVENT
END:VCALENDAR