BEGIN:VCALENDAR
VERSION:2.0
PRODID:-//Central Maryland Chapter of ISSA - ECPv6.15.20//NONSGML v1.0//EN
CALSCALE:GREGORIAN
METHOD:PUBLISH
X-ORIGINAL-URL:https://issa-centralmd.org
X-WR-CALDESC:Events for Central Maryland Chapter of ISSA
REFRESH-INTERVAL;VALUE=DURATION:PT1H
X-Robots-Tag:noindex
X-PUBLISHED-TTL:PT1H
BEGIN:VTIMEZONE
TZID:America/New_York
BEGIN:DAYLIGHT
TZOFFSETFROM:-0500
TZOFFSETTO:-0400
TZNAME:EDT
DTSTART:20210314T070000
END:DAYLIGHT
BEGIN:STANDARD
TZOFFSETFROM:-0400
TZOFFSETTO:-0500
TZNAME:EST
DTSTART:20211107T060000
END:STANDARD
BEGIN:DAYLIGHT
TZOFFSETFROM:-0500
TZOFFSETTO:-0400
TZNAME:EDT
DTSTART:20220313T070000
END:DAYLIGHT
BEGIN:STANDARD
TZOFFSETFROM:-0400
TZOFFSETTO:-0500
TZNAME:EST
DTSTART:20221106T060000
END:STANDARD
BEGIN:DAYLIGHT
TZOFFSETFROM:-0500
TZOFFSETTO:-0400
TZNAME:EDT
DTSTART:20230312T070000
END:DAYLIGHT
BEGIN:STANDARD
TZOFFSETFROM:-0400
TZOFFSETTO:-0500
TZNAME:EST
DTSTART:20231105T060000
END:STANDARD
END:VTIMEZONE
BEGIN:VEVENT
DTSTART;TZID=America/New_York:20220223T170000
DTEND;TZID=America/New_York:20220223T193000
DTSTAMP:20260424T160658
CREATED:20211114T015406Z
LAST-MODIFIED:20220225T001419Z
UID:4585-1645635600-1645644600@issa-centralmd.org
SUMMARY:Membership Meeting 2/23/2022
DESCRIPTION:Chapter Business Meeting Slides: 2022-02-23 Meeting Slides \nBusiness Meeting Recording: Zoom Meeting Recording \n\nTopic: Emerging Technologies\, Existing Policies and Architectures \nThis presentation we will discuss current architectures and policies and how it’s hard to match the speed of change. That the coalition of the willing can create change through sharing and leveraging the grassroots of organizations and drive-up consistencies in leveraging what you have to meet new constructs and open a discussion on what policies are required. \nSpeaker: Stephanie Neely\, Defense Information Systems Agency \n\nStephanie Neely has 27 years of experience in cybersecurity and cyber operations. She has worked both sides of the fence as an ISSM to NOCs and SOCs. Currently she leads a team to ensure the Department of Defense Information Networks (DODIN) are postured through unified actions that deliver the successful evolution of modernized technology solutions. Currently we are working on defining zero trust minimum capability standards for the DODIN and will be performing risk assessments against each DAO’s architecture. \n 
URL:https://issa-centralmd.org/calendar/membership-meeting-2-23-2022/
LOCATION:HubSpot—The Gathering Place on the Gateway\, 6724 Alexander Bell Drive Hub Spot\, Suite 105\, Columbia\, MD\, 21046
CATEGORIES:Meetings
ORGANIZER;CN="ISSA Central MD Chapter":MAILTO:V_P_Operations@issa-centralmd.org
END:VEVENT
END:VCALENDAR