BEGIN:VCALENDAR
VERSION:2.0
PRODID:-//Central Maryland Chapter of ISSA - ECPv6.15.20//NONSGML v1.0//EN
CALSCALE:GREGORIAN
METHOD:PUBLISH
X-ORIGINAL-URL:https://issa-centralmd.org
X-WR-CALDESC:Events for Central Maryland Chapter of ISSA
REFRESH-INTERVAL;VALUE=DURATION:PT1H
X-Robots-Tag:noindex
X-PUBLISHED-TTL:PT1H
BEGIN:VTIMEZONE
TZID:America/New_York
BEGIN:DAYLIGHT
TZOFFSETFROM:-0500
TZOFFSETTO:-0400
TZNAME:EDT
DTSTART:20200308T070000
END:DAYLIGHT
BEGIN:STANDARD
TZOFFSETFROM:-0400
TZOFFSETTO:-0500
TZNAME:EST
DTSTART:20201101T060000
END:STANDARD
BEGIN:DAYLIGHT
TZOFFSETFROM:-0500
TZOFFSETTO:-0400
TZNAME:EDT
DTSTART:20210314T070000
END:DAYLIGHT
BEGIN:STANDARD
TZOFFSETFROM:-0400
TZOFFSETTO:-0500
TZNAME:EST
DTSTART:20211107T060000
END:STANDARD
BEGIN:DAYLIGHT
TZOFFSETFROM:-0500
TZOFFSETTO:-0400
TZNAME:EDT
DTSTART:20220313T070000
END:DAYLIGHT
BEGIN:STANDARD
TZOFFSETFROM:-0400
TZOFFSETTO:-0500
TZNAME:EST
DTSTART:20221106T060000
END:STANDARD
END:VTIMEZONE
BEGIN:VEVENT
DTSTART;TZID=America/New_York:20211111T183000
DTEND;TZID=America/New_York:20211111T200000
DTSTAMP:20260424T211049
CREATED:20211109T032111Z
LAST-MODIFIED:20211109T032324Z
UID:4561-1636655400-1636660800@issa-centralmd.org
SUMMARY:ISSA Mid-Atlantic Qtrly Summit
DESCRIPTION:The Solarwinds Attack has caused government and private sector organizations to renew their focus on strengthening Cybersecurity Supply Chain Risk Management. By statute\, federal agencies must use NIST’s C-SCRM and other cybersecurity standards and guidelines to protect non-national security federal information and communications infrastructure. The SECURE Technology Act and FASC Interim Final Rule gave NIST specific authority to develop C-SCRM guidelines. Matthew Butkovic\, Technical Manager of the Cybersecurity Assurance\, Software Engineering Institute will moderate a discussion with Dr. George Duchak\, Chief Information Officer\, DLA Information Operations and Robert S. Metzger\, Shareholder at the Rogers\, Joseph\, O’Donnell Washington\, D.C. law firm’s Cybersecurity and Privacy Practice Group to share their thoughts about designing stronger cybersecurity risk management strategies and approaches.
URL:https://issa-centralmd.org/calendar/issa-mid-atlantic-qtrly-summit/
LOCATION:Md
CATEGORIES:Meetings
END:VEVENT
BEGIN:VEVENT
DTSTART;TZID=America/New_York:20211118T170000
DTEND;TZID=America/New_York:20211118T193000
DTSTAMP:20260424T211049
CREATED:20201215T234418Z
LAST-MODIFIED:20220201T214849Z
UID:3525-1637254800-1637263800@issa-centralmd.org
SUMMARY:Membership Meeting 11/18/2021
DESCRIPTION:Note: The November 18\, 2021 will be held on the third Thursday of the month. \nChapter Business Meeting Slides: 2021-11-18 Meeting Slides \nSpeaker Slides: 2021-11-18 Space_Enterprise_Trends_Risks_and_Securing_the_Future \n\nMeeting and Speaker Recording: Zoom Meeting Recording \nTopic: Protecting and Securing Data \nBillions of people around the world rely on operations conducted across the space enterprise. Space systems support critical functions including navigation\, communications\, agriculture\, financial exchange\, and emergency services. Current and emerging markets for space services range from GPS and broadband connectivity to environmental monitoring and on-orbit manufacturing. \nThe volume of data travelling across information systems in satellite\, ground\, and user segments continues to escalate due to a range of factors and trends\, including the commercialization of space with the transportation of cargo\, experiments\, and payload; human space flight; resupply to the International Space Station; Space as a Service (SaaS) and Ground Station as a Service (GSaaS); and the push to the moon and Mars. \nAdversaries seek to exploit vulnerabilities and threats across this increased threat plane through unauthorized access\, malware\, denial of service\, supply chain\, and other opportunities. Guidance\, best practices\, and a defense-in-depth approach to protecting and securing data and information is a key priority and continues to evolve in the government and commercial sector to outpace the threat. \n\nSpeaker: Lori Gordon\, Aerospace Corporation \nLori Gordon is a senior project engineer and technology strategist in the Corporate Chief Engineer’s Office at The Aerospace Corporation\, focusing on Space Enterprise Integration (SEI) and Space Enterprise Risk (SER) to cyber and physical infrastructure. During her career\, she has led efforts to coordinate national strategies and initiatives to enhance the resilience of U.S. critical infrastructure\, mitigate national security and civil space enterprise risk\, and accelerate technology innovation in complex systems. She has advised U.S. and international standards development organizations and academic curriculum boards on autonomous systems\, cybersecurity\, and the next generation workforce. Gordon has a master’s in public administration from the University of Massachusetts and a bachelor’s in geography from the University of Maryland. She is a Partner with The Aerospace Corporation’s Center for Space Policy and Strategy and is a Visiting Fellow at the National Security Institute. \n 
URL:https://issa-centralmd.org/calendar/membership-meeting-11-18-2021/
LOCATION:HubSpot—The Gathering Place on the Gateway\, 6724 Alexander Bell Drive Hub Spot\, Suite 105\, Columbia\, MD\, 21046
CATEGORIES:Meetings
END:VEVENT
END:VCALENDAR