BEGIN:VCALENDAR
VERSION:2.0
PRODID:-//Central Maryland Chapter of ISSA - ECPv6.15.20//NONSGML v1.0//EN
CALSCALE:GREGORIAN
METHOD:PUBLISH
X-WR-CALNAME:Central Maryland Chapter of ISSA
X-ORIGINAL-URL:https://issa-centralmd.org
X-WR-CALDESC:Events for Central Maryland Chapter of ISSA
REFRESH-INTERVAL;VALUE=DURATION:PT1H
X-Robots-Tag:noindex
X-PUBLISHED-TTL:PT1H
BEGIN:VTIMEZONE
TZID:America/New_York
BEGIN:DAYLIGHT
TZOFFSETFROM:-0500
TZOFFSETTO:-0400
TZNAME:EDT
DTSTART:20200308T070000
END:DAYLIGHT
BEGIN:STANDARD
TZOFFSETFROM:-0400
TZOFFSETTO:-0500
TZNAME:EST
DTSTART:20201101T060000
END:STANDARD
BEGIN:DAYLIGHT
TZOFFSETFROM:-0500
TZOFFSETTO:-0400
TZNAME:EDT
DTSTART:20210314T070000
END:DAYLIGHT
BEGIN:STANDARD
TZOFFSETFROM:-0400
TZOFFSETTO:-0500
TZNAME:EST
DTSTART:20211107T060000
END:STANDARD
BEGIN:DAYLIGHT
TZOFFSETFROM:-0500
TZOFFSETTO:-0400
TZNAME:EDT
DTSTART:20220313T070000
END:DAYLIGHT
BEGIN:STANDARD
TZOFFSETFROM:-0400
TZOFFSETTO:-0500
TZNAME:EST
DTSTART:20221106T060000
END:STANDARD
END:VTIMEZONE
BEGIN:VEVENT
DTSTART;TZID=America/New_York:20211027T170000
DTEND;TZID=America/New_York:20211027T193000
DTSTAMP:20260424T224402
CREATED:20201215T233936Z
LAST-MODIFIED:20211028T142023Z
UID:3523-1635354000-1635363000@issa-centralmd.org
SUMMARY:Membership Meeting 10/27/2021
DESCRIPTION:Chapter Business Meeting Slides: 2021-10-27 Meeting Slides \n\nMeeting and Speaker Recording: Zoom Meeting Recording \nTopic: Intellectual Property Espionage \nCliff will talk about an intellectual property espionage case study and discuss how focused curiosity can help you develop solutions.\n\n\nSpeaker: Cliff Stoll\, Founder of Acme Klein Bottles \nDr. Cliff Stoll has had a variety of careers over his lifetime.  Presently he is the CBO (Chief Bottle Officer) and founder of Acme Klein Bottles.  He is also an author of 3 books: The Cuckoo’s Egg\, Silicon Snake Oil\, and High Tech Heretic.  He was a System Administrator at Berkeley.  He is also an astronomer.  And as a self-proclaimed mad scientist\, he has one major accomplishment that few people in the world can claim; he successfully tracked a nation state spy through the Internet.  In his search for a 75 cent glitch\, he highlighted problems with the network and created some unique solutions that helped the advancement of intrusion detection and digital forensics. \n 
URL:https://issa-centralmd.org/calendar/membership-meeting-10-27-2021/
LOCATION:HubSpot—The Gathering Place on the Gateway\, 6724 Alexander Bell Drive Hub Spot\, Suite 105\, Columbia\, MD\, 21046
CATEGORIES:Meetings
END:VEVENT
END:VCALENDAR